BEGIN:VCALENDAR
VERSION:2.0
PRODID:-//Close Encounters With Music - ECPv6.15.20//NONSGML v1.0//EN
CALSCALE:GREGORIAN
METHOD:PUBLISH
X-WR-CALNAME:Close Encounters With Music
X-ORIGINAL-URL:https://cewm.org
X-WR-CALDESC:Events for Close Encounters With Music
REFRESH-INTERVAL;VALUE=DURATION:PT1H
X-Robots-Tag:noindex
X-PUBLISHED-TTL:PT1H
BEGIN:VTIMEZONE
TZID:America/New_York
BEGIN:DAYLIGHT
TZOFFSETFROM:-0500
TZOFFSETTO:-0400
TZNAME:EDT
DTSTART:20240310T070000
END:DAYLIGHT
BEGIN:STANDARD
TZOFFSETFROM:-0400
TZOFFSETTO:-0500
TZNAME:EST
DTSTART:20241103T060000
END:STANDARD
BEGIN:DAYLIGHT
TZOFFSETFROM:-0500
TZOFFSETTO:-0400
TZNAME:EDT
DTSTART:20250309T070000
END:DAYLIGHT
BEGIN:STANDARD
TZOFFSETFROM:-0400
TZOFFSETTO:-0500
TZNAME:EST
DTSTART:20251102T060000
END:STANDARD
BEGIN:DAYLIGHT
TZOFFSETFROM:-0500
TZOFFSETTO:-0400
TZNAME:EDT
DTSTART:20260308T070000
END:DAYLIGHT
BEGIN:STANDARD
TZOFFSETFROM:-0400
TZOFFSETTO:-0500
TZNAME:EST
DTSTART:20261101T060000
END:STANDARD
END:VTIMEZONE
BEGIN:VEVENT
DTSTART;TZID=America/New_York:20250518T160000
DTEND;TZID=America/New_York:20250518T180000
DTSTAMP:20260420T205017
CREATED:20240815T185720Z
LAST-MODIFIED:20250414T200437Z
UID:10000250-1747584000-1747591200@cewm.org
SUMMARY:A Tale of Two Salons—Winnaretta Singer and Marcel Proust
DESCRIPTION:The daughter of sewing machine industrialist Isaac Merritt Singer\, Winnaretta Singer\, Princess de Polignac\, was a force of nature\, hosting everyone from Leion Bakst to Jean Cocteau and Jean Giraudoux to Prokofiev\, Madame Jean Lanvin\, Siegfried Wagner\, Arthur Rubenstein\, Arnold Schoenberg\, and Edith Wharton in her Paris salon. more importantly\, she was responsible for developing a new genre: “Great music for a small space by up-and-coming composers” in the words of Sylvia Kahan\, her biographer\, who will join for the four-hand piano “Bagatelle” by Winaretta’s husband\, Edmond de Polignac. Works either commissioned by her\, dedicated to her\, or that were performed in her mansion on Rue Henri-Martin\, will be featured in our on-stage “salon”: Ravel’s Pavane pour un enfant défunte\, Stravinsky’s Piano Sonata 1924\, the sizzling César Franck Piano Quintet and songs by Fauré\, Polenc and Reynaldo Hahn. She also befriended Marcel Proust and his lover Hahn\, who reciprocated with an evening at their Pairs salon\, inspiring a chapter in Swann’s Way.  A rich tapestry in search of time\, place and personages. \nAlexander Shtarkman\, piano; Sylvia Kahan\, piano; William Ferguson\, tenor; Grace Park\, violin; Xiao-Dong Wang\, violin; Helena Baillie\, viola; Yehuda Hanani\, cello \nJoin us for an Afterglow Reception on the Mahaiwe stage following the concert! You are invited to meet the artists and enjoy bites and beverages by Authentic Eats by Oleg.
URL:https://cewm.org/event/a-tale-of-two-salons-winnaretta-singer-and-marcel-proust/
LOCATION:Mahaiwe Performing Arts Center\, 14 Castle Street\, Great Barrington\, MA\, 01230\, United States
CATEGORIES:home-page,Season 2024 2025
ATTACH;FMTTYPE=image/jpeg:https://cewm.org/wp-content/uploads/2024/08/CEWM-May-18-Calendar-Slider.jpg
END:VEVENT
END:VCALENDAR