BEGIN:VCALENDAR
VERSION:2.0
PRODID:-//Close Encounters With Music - ECPv6.15.20//NONSGML v1.0//EN
CALSCALE:GREGORIAN
METHOD:PUBLISH
X-WR-CALNAME:Close Encounters With Music
X-ORIGINAL-URL:https://cewm.org
X-WR-CALDESC:Events for Close Encounters With Music
REFRESH-INTERVAL;VALUE=DURATION:PT1H
X-Robots-Tag:noindex
X-PUBLISHED-TTL:PT1H
BEGIN:VTIMEZONE
TZID:America/New_York
BEGIN:DAYLIGHT
TZOFFSETFROM:-0500
TZOFFSETTO:-0400
TZNAME:EDT
DTSTART:20200308T070000
END:DAYLIGHT
BEGIN:STANDARD
TZOFFSETFROM:-0400
TZOFFSETTO:-0500
TZNAME:EST
DTSTART:20201101T060000
END:STANDARD
BEGIN:DAYLIGHT
TZOFFSETFROM:-0500
TZOFFSETTO:-0400
TZNAME:EDT
DTSTART:20210314T070000
END:DAYLIGHT
BEGIN:STANDARD
TZOFFSETFROM:-0400
TZOFFSETTO:-0500
TZNAME:EST
DTSTART:20211107T060000
END:STANDARD
BEGIN:DAYLIGHT
TZOFFSETFROM:-0500
TZOFFSETTO:-0400
TZNAME:EDT
DTSTART:20220313T070000
END:DAYLIGHT
BEGIN:STANDARD
TZOFFSETFROM:-0400
TZOFFSETTO:-0500
TZNAME:EST
DTSTART:20221106T060000
END:STANDARD
END:VTIMEZONE
BEGIN:VEVENT
DTSTART;TZID=America/New_York:20210729T110000
DTEND;TZID=America/New_York:20210729T123000
DTSTAMP:20260421T135153
CREATED:20210702T184208Z
LAST-MODIFIED:20210720T135157Z
UID:1068-1627556400-1627561800@cewm.org
SUMMARY:Viola Master Class
DESCRIPTION:Viola Master Class with Daniel Panner of the Mannes School of Music and Michael Strauss of the Dana School of Music. Click this link to register for this event: https://us02web.zoom.us/webinar/register/WN_kDWjCnfkRKqLUcqWFtPOew
URL:https://cewm.org/event/viola-master-class/
LOCATION:Click event title above for Zoom link
CATEGORIES:high-peaks
ATTACH;FMTTYPE=image/jpeg:https://cewm.org/wp-content/uploads/2021/07/Daniel-Panner-and-Michael-Strauss-Master-Class-July-29-Event-Image.jpg
END:VEVENT
END:VCALENDAR